Workbook

Sheet AR aging
A1: Accounts receivable aging report
A2: Zinance · zinance.co/blog/accounts-receivable-aging-report
A4: As-of date: | B4: =TODAY()
A6: Customer | B6: Invoice # | C6: Invoice date | D6: Due date | E6: Amount | F6: Days overdue | G6: 0-30 | H6: 31-60 | I6: 61-90 | J6: 90+
A7: Meridian Health Group | B7: INV-1042 | C7: 2026-06-28 | D7: 2026-07-28 | E7: 18400 | F7: =IF(E7="","",MAX(0,$B$4-DATEVALUE(D7))) | G7: =IF(AND($F7>=0,$F7<=30),$E7,0) | H7: =IF(AND($F7>=31,$F7<=60),$E7,0) | I7: =IF(AND($F7>=61,$F7<=90),$E7,0) | J7: =IF(AND($F7>=91,$F7<=100000),$E7,0)
A8: Bramwell & Co. | B8: INV-1051 | C8: 2026-07-06 | D8: 2026-08-05 | E8: 11200 | F8: =IF(E8="","",MAX(0,$B$4-DATEVALUE(D8))) | G8: =IF(AND($F8>=0,$F8<=30),$E8,0) | H8: =IF(AND($F8>=31,$F8<=60),$E8,0) | I8: =IF(AND($F8>=61,$F8<=90),$E8,0) | J8: =IF(AND($F8>=91,$F8<=100000),$E8,0)
A9: Lodestar Partners | B9: INV-1063 | C9: 2026-07-19 | D9: 2026-08-18 | E9: 9800 | F9: =IF(E9="","",MAX(0,$B$4-DATEVALUE(D9))) | G9: =IF(AND($F9>=0,$F9<=30),$E9,0) | H9: =IF(AND($F9>=31,$F9<=60),$E9,0) | I9: =IF(AND($F9>=61,$F9<=90),$E9,0) | J9: =IF(AND($F9>=91,$F9<=100000),$E9,0)
A10: Ferro Industrial | B10: INV-1077 | C10: 2026-08-02 | D10: 2026-09-01 | E10: 7300 | F10: =IF(E10="","",MAX(0,$B$4-DATEVALUE(D10))) | G10: =IF(AND($F10>=0,$F10<=30),$E10,0) | H10: =IF(AND($F10>=31,$F10<=60),$E10,0) | I10: =IF(AND($F10>=61,$F10<=90),$E10,0) | J10: =IF(AND($F10>=91,$F10<=100000),$E10,0)
A11: Ashby Systems | B11: INV-1090 | C11: 2026-08-24 | D11: 2026-09-23 | E11: 15600 | F11: =IF(E11="","",MAX(0,$B$4-DATEVALUE(D11))) | G11: =IF(AND($F11>=0,$F11<=30),$E11,0) | H11: =IF(AND($F11>=31,$F11<=60),$E11,0) | I11: =IF(AND($F11>=61,$F11<=90),$E11,0) | J11: =IF(AND($F11>=91,$F11<=100000),$E11,0)
F12: =IF(E12="","",MAX(0,$B$4-DATEVALUE(D12))) | G12: =IF(E12="","",IF(AND($F12>=0,$F12<=30),$E12,0)) | H12: =IF(E12="","",IF(AND($F12>=31,$F12<=60),$E12,0)) | I12: =IF(E12="","",IF(AND($F12>=61,$F12<=90),$E12,0)) | J12: =IF(E12="","",IF(AND($F12>=91,$F12<=100000),$E12,0))
F13: =IF(E13="","",MAX(0,$B$4-DATEVALUE(D13))) | G13: =IF(E13="","",IF(AND($F13>=0,$F13<=30),$E13,0)) | H13: =IF(E13="","",IF(AND($F13>=31,$F13<=60),$E13,0)) | I13: =IF(E13="","",IF(AND($F13>=61,$F13<=90),$E13,0)) | J13: =IF(E13="","",IF(AND($F13>=91,$F13<=100000),$E13,0))
F14: =IF(E14="","",MAX(0,$B$4-DATEVALUE(D14))) | G14: =IF(E14="","",IF(AND($F14>=0,$F14<=30),$E14,0)) | H14: =IF(E14="","",IF(AND($F14>=31,$F14<=60),$E14,0)) | I14: =IF(E14="","",IF(AND($F14>=61,$F14<=90),$E14,0)) | J14: =IF(E14="","",IF(AND($F14>=91,$F14<=100000),$E14,0))
F15: =IF(E15="","",MAX(0,$B$4-DATEVALUE(D15))) | G15: =IF(E15="","",IF(AND($F15>=0,$F15<=30),$E15,0)) | H15: =IF(E15="","",IF(AND($F15>=31,$F15<=60),$E15,0)) | I15: =IF(E15="","",IF(AND($F15>=61,$F15<=90),$E15,0)) | J15: =IF(E15="","",IF(AND($F15>=91,$F15<=100000),$E15,0))
F16: =IF(E16="","",MAX(0,$B$4-DATEVALUE(D16))) | G16: =IF(E16="","",IF(AND($F16>=0,$F16<=30),$E16,0)) | H16: =IF(E16="","",IF(AND($F16>=31,$F16<=60),$E16,0)) | I16: =IF(E16="","",IF(AND($F16>=61,$F16<=90),$E16,0)) | J16: =IF(E16="","",IF(AND($F16>=91,$F16<=100000),$E16,0))
F17: =IF(E17="","",MAX(0,$B$4-DATEVALUE(D17))) | G17: =IF(E17="","",IF(AND($F17>=0,$F17<=30),$E17,0)) | H17: =IF(E17="","",IF(AND($F17>=31,$F17<=60),$E17,0)) | I17: =IF(E17="","",IF(AND($F17>=61,$F17<=90),$E17,0)) | J17: =IF(E17="","",IF(AND($F17>=91,$F17<=100000),$E17,0))
F18: =IF(E18="","",MAX(0,$B$4-DATEVALUE(D18))) | G18: =IF(E18="","",IF(AND($F18>=0,$F18<=30),$E18,0)) | H18: =IF(E18="","",IF(AND($F18>=31,$F18<=60),$E18,0)) | I18: =IF(E18="","",IF(AND($F18>=61,$F18<=90),$E18,0)) | J18: =IF(E18="","",IF(AND($F18>=91,$F18<=100000),$E18,0))
F19: =IF(E19="","",MAX(0,$B$4-DATEVALUE(D19))) | G19: =IF(E19="","",IF(AND($F19>=0,$F19<=30),$E19,0)) | H19: =IF(E19="","",IF(AND($F19>=31,$F19<=60),$E19,0)) | I19: =IF(E19="","",IF(AND($F19>=61,$F19<=90),$E19,0)) | J19: =IF(E19="","",IF(AND($F19>=91,$F19<=100000),$E19,0))
F20: =IF(E20="","",MAX(0,$B$4-DATEVALUE(D20))) | G20: =IF(E20="","",IF(AND($F20>=0,$F20<=30),$E20,0)) | H20: =IF(E20="","",IF(AND($F20>=31,$F20<=60),$E20,0)) | I20: =IF(E20="","",IF(AND($F20>=61,$F20<=90),$E20,0)) | J20: =IF(E20="","",IF(AND($F20>=91,$F20<=100000),$E20,0))
F21: =IF(E21="","",MAX(0,$B$4-DATEVALUE(D21))) | G21: =IF(E21="","",IF(AND($F21>=0,$F21<=30),$E21,0)) | H21: =IF(E21="","",IF(AND($F21>=31,$F21<=60),$E21,0)) | I21: =IF(E21="","",IF(AND($F21>=61,$F21<=90),$E21,0)) | J21: =IF(E21="","",IF(AND($F21>=91,$F21<=100000),$E21,0))
F22: =IF(E22="","",MAX(0,$B$4-DATEVALUE(D22))) | G22: =IF(E22="","",IF(AND($F22>=0,$F22<=30),$E22,0)) | H22: =IF(E22="","",IF(AND($F22>=31,$F22<=60),$E22,0)) | I22: =IF(E22="","",IF(AND($F22>=61,$F22<=90),$E22,0)) | J22: =IF(E22="","",IF(AND($F22>=91,$F22<=100000),$E22,0))
F23: =IF(E23="","",MAX(0,$B$4-DATEVALUE(D23))) | G23: =IF(E23="","",IF(AND($F23>=0,$F23<=30),$E23,0)) | H23: =IF(E23="","",IF(AND($F23>=31,$F23<=60),$E23,0)) | I23: =IF(E23="","",IF(AND($F23>=61,$F23<=90),$E23,0)) | J23: =IF(E23="","",IF(AND($F23>=91,$F23<=100000),$E23,0))
... F36: =IF(E36="","",MAX(0,$B$4-DATEVALUE(D36))) | G36: =IF(E36="","",IF(AND($F36>=0,$F36<=30),$E36,0)) | H36: =IF(E36="","",IF(AND($F36>=31,$F36<=60),$E36,0)) | I36: =IF(E36="","",IF(AND($F36>=61,$F36<=90),$E36,0)) | J36: =IF(E36="","",IF(AND($F36>=91,$F36<=100000),$E36,0))
A37: Total | E37: =SUM(E7:E36) | F37: =SUM(F7:F36) | G37: =SUM(G7:G36) | H37: =SUM(H7:H36) | I37: =SUM(I7:I36) | J37: =SUM(J7:J36)

Sheet Summary by customer
A1: Summary by customer
A3: Customer | B3: Total outstanding | C3: 0-30 | D3: 31-60 | E3: 61-90 | F3: 90+
A4: =IFERROR(UNIQUE(FILTER('AR aging'!A7:A31,'AR aging'!A7:A31<>"")),"") | B4: =IF($A4="","",SUM(C4:F4)) | C4: =IF($A4="","",SUMIF('AR aging'!$A$7:$A$31,$A4,'AR aging'!G$7:G$31)) | D4: =IF($A4="","",SUMIF('AR aging'!$A$7:$A$31,$A4,'AR aging'!H$7:H$31)) | E4: =IF($A4="","",SUMIF('AR aging'!$A$7:$A$31,$A4,'AR aging'!I$7:I$31)) | F4: =IF($A4="","",SUMIF('AR aging'!$A$7:$A$31,$A4,'AR aging'!J$7:J$31))
A8: Rows fill automatically from the AR aging tab (Excel 365 / Google Sheets). On older Excel, use SUMIF against your own customer list.

Sheet How to use
A2: Enter one row per open invoice on the AR aging tab. Days overdue and the four buckets calculate themselves from the due date.
A3: Set the as-of date in cell B4. It defaults to today.
A4: Watch the 61-90 bucket, not 90+. By 90 days the outcome is usually decided; at 61-90 the cause is often a fixable processing problem.
A5: Read the report next to DSO. DSO is an average and hides concentration; one large invoice can distort it entirely.
A6: Free and ungated from Zinance: zinance.co
